Workbook

Sheet Instructions
A1: GHG Intensity Calculator for Green Ammonia
A2: Digital tool for ammonia project developers
A3: Purpose
A4: This tool calculates lifecycle GHG intensity (kgCO₂eq/kg NH₃) of ammonia produced via the Haber-Bosch process fed by hydrogen (from on-site electrolysis or merchant supply) and nitrogen (from cryogenic air separation) as per the following methodologies. As such, the tool shall help to do initial estimations on standard compliance, methodology understanding and level of GHG emissions.
A5: It implements three regulatory frameworks:
A6: • EU — Renewable Fuels of Non-Biological Origin (RFNBO) per Commission Delegated Reg. (EU) 2023/1185 + 2023/1184 (parent Dir. (EU) 2018/2001 / 2023/2413). Well-to-wheel formula vs. 94 gCO₂eq/MJ fossil comparator with ≥ 70 % savings threshold.
A7: • EU — Carbon Border Adjustment Mechanism (Reg. (EU) 2023/956 + Imp. Reg. (EU) 2025/2547) — ammonia is NOT in Annex II, so indirect (grid electricity) emissions are counted and H₂ precursor SEE is carried through per Reg. 2025/2547 §Q.
A8: • IMO — GHG Fuel Intensity for marine fuels (MEPC.391(81) LCA Guidelines + draft revised MARPOL Annex VI, MEPC-ES.2-2). Well-to-wake gCO₂eq/MJ
A9: Scope: Well-to-Gate or Well-to-Wheel/Wake as per the applied methodologies. Further tools have been developed in parallel to determine GHG emissions of hydrogen, e-methanol or eSAF. Please visit:
A10: https://ptx-hub.org/ publication /GHG_intensity_calculators_PtX_products
A11: How to Use
A12: Step 1: Go to the 'Project Data' sheet and fill in all yellow-highlighted cells with your project-specific data. Use the H₂ Supply Mode dropdown (row 17) to switch between On-site electrolysis and Merchant supply.
... A31: This tool was developed with support of AI tools (namely ClaudeAI and ChatGPT). While AI contributed to the process of development, all interpretations and conclusions drawn from this work remain the responsibility of the authors

Sheet Project Data
A1: GHG Intensity Calculator — Project Data
A2: Parameter | B2: Value | C2: Unit | D2: Type of input | E2: Data source / Note | F2: Additional information
A3: General Project Information
A4: Project Name | B4: Example for illustration | C4: — | D4: User | E4: No real case! | F4: Enter project name
A5: Project Location (Country) | B5: India | C5: — | D5: User | F5: Country hosting the H₂ production plant (informational).
A6: Calendar Year of Assessment | B6: 2030 | C6: year | D6: User | F6: Single calendar year for the assessment (e.g. 2026).
A7: Include EU RFNBO | B7: Yes | C7: — | D7: User | F7: Yes/No — include results of this methodology in the Results sheet.
A8: Include EU CBAM | B8: Yes | C8: — | D8: User | F8: Yes/No — include results of this methodology in the Results sheet.
A9: Include IMO | B9: Yes | C9: — | D9: User | F9: Yes/No — include results of this methodology in the Results sheet.
A11: Ammonia Production
A12: Annual NH₃ Output | B12: 530000 | C12: tNH₃/yr | D12: User/Site/Design | F12: Annual ammonia production output. Referenced by all methodology sheets as denominator.
A13: NH₃ Purity | B13: 0.995 | C13: % (mass) | D13: User/Site/Design | F13: Purity by mass (e.g. ≥99.5% typical for anhydrous ammonia; informational).
A14: Operating Hours | B14: 8600 | C14: h/yr | D14: User/Site/Design | F14: Full-load equivalent hours in the assessment year (informational).
A16: H₂ Supply Mode
A17: H₂ Consumption Rate | B17: 0.188 | C17: kgH₂/kgNH₃ | D17: User/Site/Design | F17: Stoichiometric 0.1776; typical +5-10% margin for purge/loss. Process constant.
A18: H₂ Merchant Emission Factor (as supplied) | C18: gCO₂e/kgH₂ | D18: User/Site/Design | E18: Not applicable | F18: Merchant branch only — user cites source (RFNBO cert, hydrogen tool result). Ignored under On-site electrolysis.
A20: N₂ Supply Mode
A21: N₂ Consumption Rate | B21: 0.825125 | C21: kgN₂/kgNH₃ | D21: User/Site/Design | F21: Stoichiometric 0.8224; typical +5-10% margin for purge/loss. Process constant.
A22: N₂ Merchant Emission Factor (as supplied) | C22: gCO₂e/kgN2 | D22: Please select | E22: Not applicable | F22: Merchant branch only — user to cites source
A24: Electricity (electrolysis/H2 production only)
A25: Grid Electricity Consumption | B25: 350000 | C25: MWh/yr | D25: User/Site/Design | F25: Electricity from the grid
A26: Renewable Electricity Consumption | B26: 12000000 | C26: MWh/yr | D26: User/Site/Design | F26: Dedicated renewable electricity or electricity that is deemed renewable as per the applied methodologies
A27: Other Electricity Consumption | B27: 0 | C27: MWh/yr | D27: User/Site/Design | F27: Other sources (if any)
A28: Total Electricity Consumption | B28: =B25+B26+B27 -> 12350000 | C28: MWh/yr | D28: Calculated | F28: Sum of above (only for information)
A30: Electricity (whole plant — ASU + Haber-Bosch, etc. except electrolysis/hydrogen production)
A31: Grid Electricity Consumption | C31: MWh/yr | D31: User/Site/Design | F31: Electricity from the grid
A32: Renewable Electricity Consumption | B32: 600000 | C32: MWh/yr | D32: User/Site/Design | F32: Dedicated renewable electricity or electricity that is deemed renewable as per the applied methodologies
A33: Other Electricity Consumption | B33: 0 | C33: MWh/yr | D33: User/Site/Design | F33: Other sources (if any)
A34: Total Electricity Consumption | B34: =B31+B32+B33 -> 600000 | C34: MWh/yr | D34: Calculated | F34: Sum of above (only for information)
A36: Water Input Volume (including hydrogen production)
A37: Water Input Volume | B37: 1100000 | C37: m³/yr | D37: User/Site/Design | F37: Total water consumed
A38: Water Source / Type | B38: Deionized water | C38: — | D38: User/Site/Design | F38: Dropdown: pick from list; select "Other" if not listed and enter your own EF in the EF cells on the methodology sheets accordingly.
A40: Steam / Heat
A41: Steam Consumption | B41: 0 | C41: MJ/yr | D41: Please select | F41: Process steam/heat from external sources
A42: Steam Source | B42: Please select | C42: — | D42: User/Site/Design | F42: Dropdown: pick from list; select "Other" if not listed and enter your own EF in the EF cells on the methodology sheets accordingly.
A44: (Process) Fuels
A45: Fuel 1 — Type | B45: Diesel | C45: — | D45: User/Site/Design | E45: For machinery | F45: Dropdown: pick from list; select "Other" if not listed and enter your own EF in the EF cells on the methodology sheets accordingly.
A46: Fuel 1 — Amount | B46: 25000 | C46: MJ/yr | D46: User/Site/Design | E46: For machinery | F46: Energy content
A47: Fuel 2 — Type | B47: Please select | C47: — | D47: User/Site/Design | F47: Dropdown: pick from list; select "Other" if not listed and enter your own EF in the EF cells on the methodology sheets accordingly.
A48: Fuel 2 — Amount | C48: MJ/yr | D48: Please select | F48: Energy content
...

Sheet EU RFNBO
A1: EU RFNBO — Renewable Fuels of Non-Biological Origin
A2: Source: | B2: Commission Delegated Reg. (EU) 2023/1185 (10 Feb 2023, OJ L 157, methodology) + Commission Delegated Reg. (EU) 2023/1184 (electricity rules); Directive (EU) 2018/2001 (RED II), amended by Directive (EU) 2023/2413 (RED III, 18 Oct 2023).
A3: Boundary: | B3: Well-to-Wheel/Wake including supply of inputs, processing, transport & distribution, end-use combustion (i.e. = 0 for H₂). CCS savings subtracted. Emissions from manufacture of machinery/equipment EXCLUDED (Annex A.1).
A4: Output unit: | B4: Primary: gCO₂e/MJ NH₃ (regulation native); mirrored as kgCO₂e/kgNH₃ (= E_gMJ × 18.6 ÷ 1000)
A5: Threshold: | B5: ≥ 70 % GHG savings vs. fossil fuel comparator E_F = 94 gCO₂eq/MJ (Art. 25(2) of Dir. 2018/2001)
A6: GWP Basis | B6: IPCC AR4 100-year (per Annex V part C point 4 of Dir. 2018/2001)
A8: Annual NH₃ Output | B8: ='Project Data'!B12*1000 -> 530000000 | C8: kgNH3/yr
A9: Annual NH₃ Energy Output | B9: =B8*'Emission Factors'!B87 -> 9858000000 | C9: MJ/yr
A11: GHG Intensity Calculation
A12: Component | B12: Formula / Reference | C12: Description | D12: Type | E12: Amount | F12: Input Unit | G12: EF from selection | H12: EF override | I12: Active EF | J12: EF Unit | K12: Data source / Note | L12: Result (gCO₂e/MJ)
D13: (Change on Project Data sheet)
A14: e_H2 | B14: - | C14: If merchant supply | D14: - | E14: ='Project Data'!B17*'EU RFNBO'!B8 -> 99640000 | F14: kgH2/yr | G14: ='Project Data'!B18 -> 0 | I14: =IF(H14<>"",H14,IF(ISNUMBER(G14),G14,0)) -> 0 | J14: gCO₂e/kgH2 | L14: =IF(B$9>0,E14*I14/$B$9,0) -> 0
A15: e_N2 | B15: - | C15: If merchant supply | D15: - | E15: ='Project Data'!B21*'EU RFNBO'!B8 -> 437316250 | F15: kgN₂/yr | G15: ='Project Data'!B22 -> 0 | I15: =IF(H15<>"",H15,IF(ISNUMBER(G15),G15,0)) -> 0 | J15: gCO₂e/kgN₂ | L15: =IF(B$9>0,E15*I15/$B$9,0) -> 0
A16: e_electricity (within eᵢ_elastic) | B16: Reg. 2023/1185 Annex A §5-6 | C16: Electricity input. EF as per RFNBO Electricity Treatment: Fully Renewable / FLH below marginal → 0; FLH above marginal → 183 gCO₂eq/MJ; Grid Country Average / Marginal Unit | D16: ='Project Data'!A25 -> Grid Electricity Consumption | E16: =('Project Data'!B25+'Project Data'!B31)*1000 -> 350000000 | F16: kWh/yr | G16: Use EF override | H16: 608 | I16: =IF(H16<>"",H16,IF(ISNUMBER(G16),G16,0)) -> 608 | J16: gCO₂e/kWh | L16: =IF(B$9>0,E16*I16/$B$9,0) -> 21.586529
A17: e_electricity (within eᵢ_elastic) | D17: ='Project Data'!A26 -> Renewable Electricity Consumption | E17: =('Project Data'!B26+'Project Data'!B32)*1000 -> 12600000000 | F17: kWh/yr | G17: =0 -> 0 | I17: =IF(H17<>"",H17,IF(ISNUMBER(G17),G17,0)) -> 0 | J17: gCO₂e/kWh | L17: =IF(B$9>0,E17*I17/$B$9,0) -> 0
A18: e_electricity (within eᵢ_elastic) | D18: ='Project Data'!A27 -> Other Electricity Consumption | E18: =('Project Data'!B27+'Project Data'!B33)*1000 -> 0 | F18: kWh/yr | G18: Use EF override | I18: =IF(H18<>"",H18,IF(ISNUMBER(G18),G18,0)) -> 0 | J18: gCO₂e/kWh | L18: =IF(B$9>0,E18*I18/$B$9,0) -> 0
A19: e_water (within eᵢ_elastic) | B19: Annex A §7-8 | C19: Water supply emissions. Ecoinvent data is used as proxy. Override by own EF if available. | D19: ='Project Data'!B38 -> Deionized water | E19: ='Project Data'!B37 -> 1100000 | F19: m³/yr | G19: =_xlfn.XLOOKUP(D19,'Emission Factors'!A28:A30,'Emission Factors'!B28:B30,"Not found - use EF override",0) -> 0.5 | I19: =IF(H19<>"",H19,IF(ISNUMBER(G19),G19,0)) -> 0.5 | J19: kgCO₂e/m³ | L19: =IF(B$9>0,E19*I19*1000/$B$9,0) -> 0.05579225
A20: e_fuel (within eᵢ_elastic) | B20: Annex A §7-8 | C20: Process fuels as provided on Project Data sheet | D20: ='Project Data'!B45 -> Diesel | E20: ='Project Data'!B46 -> 25000 | F20: MJ/yr | G20: =_xlfn.XLOOKUP(D20,'Emission Factors'!$A$15:$A$22,'Emission Factors'!$E$15:$E$22,"Not found - use EF override",0) -> 95.1 | I20: =IF(H20<>"",H20,IF(ISNUMBER(G20),G20,0)) -> 95.1 | J20: gCO2e/MJ | L20: =IF(B$9>0,E20*I20/$B$9,0) -> 0.00024117468
A21: e_fuel (within eᵢ_elastic) | B21: Annex A §7-8 | D21: ='Project Data'!B47 -> Please select | E21: ='Project Data'!B48 -> 0 | F21: MJ/yr | G21: =_xlfn.XLOOKUP(D21,'Emission Factors'!$A$15:$A$22,'Emission Factors'!$E$15:$E$22,"Not found - use EF override",0) -> Not found - use EF override | I21: =IF(H21<>"",H21,IF(ISNUMBER(G21),G21,0)) -> 0 | J21: gCO2e/MJ | L21: =IF(B$9>0,E21*I21/$B$9,0) -> 0
A22: e_fuel (within eᵢ_elastic) | B22: Annex A §7-8 | D22: ='Project Data'!B49 -> Please select | E22: ='Project Data'!B50 -> 0 | F22: MJ/yr | G22: =_xlfn.XLOOKUP(D22,'Emission Factors'!$A$15:$A$22,'Emission Factors'!$E$15:$E$22,"Not found - use EF override",0) -> Not found - use EF override | I22: =IF(H22<>"",H22,IF(ISNUMBER(G22),G22,0)) -> 0 | J22: gCO2e/MJ | L22: =IF(B$9>0,E22*I22/$B$9,0) -> 0
A23: e_steam (within eᵢ_elastic) | B23: Annex A §7-8 | C23: Steam consumption | D23: ='Project Data'!B42 -> Please select | E23: ='Project Data'!B41 -> 0 | F23: MJ/yr | G23: =_xlfn.XLOOKUP(D23,'Emission Factors'!A62:A65,'Emission Factors'!B62:B65,"Not found - use EF override",0) -> Not found - use EF override | I23: =IF(H23<>"",H23,IF(ISNUMBER(G23),G23,0)) -> 0 | J23: kgCO₂e/MJ | L23: =IF(B$9>0,E23*I23*1000/$B$9,0) -> 0
A24: e_materials (within eᵢ_elastic) | B24: Annex A §7-8 | C24: Input materials as provided on Project Data sheet | D24: ='Project Data'!B53 -> Potassium hydroxide (KOH) | E24: ='Project Data'!B54 -> 200000 | F24: kg/yr | G24: =_xlfn.XLOOKUP(D24,'Emission Factors'!$A$40:$A$56,'Emission Factors'!$B$40:$B$56,"Not found - use EF override",0) -> 419.1 | I24: =IF(H24<>"",H24,IF(ISNUMBER(G24),G24,0)) -> 419.1 | J24: gCO₂e/kg | L24: =IF(B$9>0,E24*I24/$B$9,0) -> 0.0085027389
A25: e_materials (within eᵢ_elastic) | B25: Annex A §7-8 | D25: ='Project Data'!B55 -> Please select | E25: ='Project Data'!B56 -> 0 | F25: kg/yr | G25: =_xlfn.XLOOKUP(D25,'Emission Factors'!$A$40:$A$56,'Emission Factors'!$B$40:$B$56,"Not found - use EF override",0) -> Not found - use EF override | I25: =IF(H25<>"",H25,IF(ISNUMBER(G25),G25,0)) -> 0 | J25: gCO₂e/kg | L25: =IF(B$9>0,E25*I25/$B$9,0) -> 0
A26: e_materials (within eᵢ_elastic) | B26: Annex A §7-8 | D26: ='Project Data'!B57 -> Please select | E26: ='Project Data'!B58 -> 0 | F26: kg/yr | G26: =_xlfn.XLOOKUP(D26,'Emission Factors'!$A$40:$A$56,'Emission Factors'!$B$40:$B$56,"Not found - use EF override",0) -> Not found - use EF override | I26: =IF(H26<>"",H26,IF(ISNUMBER(G26),G26,0)) -> 0 | J26: gCO₂e/kg | L26: =IF(B$9>0,E26*I26/$B$9,0) -> 0
A27: e_materials (within eᵢ_elastic) | B27: Annex A §7-8 | D27: ='Project Data'!B59 -> Please select | E27: ='Project Data'!B60 -> 0 | F27: kg/yr | G27: =_xlfn.XLOOKUP(D27,'Emission Factors'!$A$40:$A$56,'Emission Factors'!$B$40:$B$56,"Not found - use EF override",0) -> Not found - use EF override | I27: =IF(H27<>"",H27,IF(ISNUMBER(G27),G27,0)) -> 0 | J27: gCO₂e/kg | L27: =IF(B$9>0,E27*I27/$B$9,0) -> 0
A28: eᵢ_elastic (subtotal) | B28: Annex A §4-8 | C28: Sum of elastic input supply emissions: electricity + water + fuel + materials. | L28: =SUM(L14:L27) -> 21.651065
A29: eᵢ_rigid | B29: Annex A §9 | C29: Rigid inputs (waste streams, captive co-products from incorporated processes). Typically 0 for green electrolysis. | F29: kgCO₂e/yr | G29: — | H29: — | I29: — | J29: — | L29: =IF(B$9>0,E29*1000/$B$9,0) -> 0
A30: e_ex-use | B30: Annex A §10 | C30: Avoided emissions from the input's existing use or fate. Subtracted from eᵢ. | F30: kgCO₂e/yr | G30: — | H30: — | I30: — | J30: — | L30: =IF(B$9>0,E30*1000/$B$9,0) -> 0
A31: eᵢ = eᵢ_elastic + eᵢ_rigid − e_ex-use | B31: Annex A.1 | C31: Total emissions from supply of inputs. | L31: =L28+L29-L30 -> 21.651065
A32: eₚ — Plant fugitive/leakage emissions (§12 leakage component) | B32: Annex A §12 | C32: Processing emissions (direct atmospheric CH4, N2O, etc.) | D32: ='Project Data'!B63 -> Please select | E32: ='Project Data'!B64 -> 0 | F32: kg/yr | G32: =_xlfn.XLOOKUP(D32,'Emission Factors'!$A$71:$A$73,'Emission Factors'!$E$71:$E$73,"Not found - use EF override",0) -> Not found - use EF override | I32: =IF(H32<>"",H32,IF(ISNUMBER(G32),G32,0)) -> 0 | J32: kgCO2e/kg | L32: =IF(B$9>0,E32*I32*1000/$B$9,0) -> 0
A33: eₚ — Plant fugitive/leakage emissions (§12 leakage component) | B33: Annex A §12 | D33: ='Project Data'!B65 -> Please select | E33: ='Project Data'!B66 -> 0 | F33: kg/yr | G33: =_xlfn.XLOOKUP(D33,'Emission Factors'!$A$71:$A$73,'Emission Factors'!$E$71:$E$73,"Not found - use EF override",0) -> Not found - use EF override | I33: =IF(H33<>"",H33,IF(ISNUMBER(G33),G33,0)) -> 0 | J33: kgCO2e/kg | L33: =IF(B$9>0,E33*I33*1000/$B$9,0) -> 0
A34: eₚ — Plant fugitive/leakage emissions (§12 leakage component) | B34: Annex A §12 | D34: ='Project Data'!B67 -> Please select | E34: ='Project Data'!B68 -> 0 | F34: kg/yr | G34: =_xlfn.XLOOKUP(D34,'Emission Factors'!$A$71:$A$73,'Emission Factors'!$E$71:$E$73,"Not found - use EF override",0) -> Not found - use EF override | I34: =IF(H34<>"",H34,IF(ISNUMBER(G34),G34,0)) -> 0 | J34: kgCO2e/kg | L34: =IF(B$9>0,E34*I34*1000/$B$9,0) -> 0
A35: eₚ — Plant fugitive/leakage emissions (§12 leakage component) | B35: Annex A §12 | D35: ='Project Data'!B69 -> Please select | E35: ='Project Data'!B70 -> 0 | F35: kg/yr | G35: =_xlfn.XLOOKUP(D35,'Emission Factors'!$A$71:$A$73,'Emission Factors'!$E$71:$E$73,"Not found - use EF override",0) -> Not found - use EF override | I35: =IF(H35<>"",H35,IF(ISNUMBER(G35),G35,0)) -> 0 | J35: kgCO2e/kg | L35: =IF(B$9>0,E35*I35*1000/$B$9,0) -> 0
A36: e_td — Transport & distribution | B36: Annex A §16 | C36: Emissions from storage and distribution of finished H₂. | F36: gCO₂e/MJ NH3 | G36: — | H36: — | I36: — | J36: — | L36: =IF(ISNUMBER(E36),E36,0) -> 0
A37: eᵤ — End-use combustion | B37: Annex A §13 | C37: Combustion emissions of the finished fuel | D37: ='Project Data'!B73 -> Other | E37: =B8*'Emission Factors'!$B$91*'Project Data'!$B$76*(44/28) -> 68494.171 | F37: kg N₂O/yr | G37: ='Emission Factors'!$E$73 -> 298 | I37: =IF(H37<>"",H37,IF(ISNUMBER(G37),G37,0)) -> 298 | J37: kgCO₂e/kg N₂O | L37: =IF(B$9>0,E37*I37*1000/$B$9,0) -> 2.0705278
A38: e_ccs — CCS savings (subtracted) | B38: Annex A §17 | C38: CCS savings term | D38: — | E38: — | F38: — | G38: — | H38: — | I38: — | J38: — | K38: — | L38: =0 -> 0
A39: Allocation factor (manual by user) | C39: Default 100%, user to adjust as needed | K39: % | L39: 1
A40: E — Total GHG intensity | B40: Annex A §1 | C40: E = eᵢ + eₚ + e_td + eᵤ − e_ccs | K40: gCO₂e/MJ | L40: =L39*(L31+L32+L33+L34+L35+L36+L37-L38) -> 23.721593
A41: E — Total GHG intensity (mirror unit) | B41: — | C41: E_gMJ × 18.6 ÷ 1000 (NH₃ LHV = 18.6 MJ/kg) | K41: kgCO₂e/kgH₂ | L41: =L40*'Emission Factors'!$B$87/1000 -> 0.44122162
A42: EF — Fossil fuel comparator | B42: Annex A §2 | C42: Fossil fuel comparator EF_F — fixed at 94 gCO₂e/MJ | D42: — | E42: — | F42: — | G42: — | H42: — | I42: — | J42: — | K42: Constant per regulation | L42: 94
...

Sheet EU CBAM
A1: EU CBAM — Specific Embedded Emissions (Ammonia, CN 2814 10 00)
A2: Source: | B2: Regulation (EU) 2023/956 (Annex IV) + Commission Implementing Regulation (EU) 2025/2547 (Annex I §3.6 hydrogen, Annex III §A.2.1 molar attribution)
A3: Boundary: | B3: Direct + Indirect + Precursor emissions — ammonia is NOT in Annex II of Reg. 2023/956 (Art. 7(1)). Indirect emissions from electricity consumption ARE counted (opposite of hydrogen). Precursor H₂/N₂ SEE carried through per Reg. 2025/2547 §Q.
A4: Output unit: | B4: kgCO₂e/kgNH₃ (numerically equal to tCO₂e/tNH₃)
A5: Threshold: | B5: None — CBAM accounts for embedded product emissions, does not classify into ‚green‘ or ‚clean‘ ammonia
A6: GWP Basis | B6: NA (only CO2)
A8: Annual NH3 Output | B8: ='Project Data'!B12*1000 -> 530000000 | C8: kgNH3/yr
A10: GHG Intensity Calculation
A11: Component | B11: Formula Ref | C11: Description | D11: Type | E11: Amount | F11: Input Unit | G11: EF from selection | H11: EF override | I11: Active EF | J11: EF Unit | K11: Data source / Note | L11: Result (kgCO₂e/kgNH₃)
D12: (Change on Project Data sheet)
A13: e_H2 | B13: - | C13: If merchant supply | D13: Only direct CO2 | E13: ='Project Data'!B17*B8 -> 99640000 | F13: kgH2/yr | G13: Use EF override | I13: =H13 -> 0 | J13: gCO₂e/kg | L13: =IF(B$8>0,E13*I13/(1000*B$8),0) -> 0
A14: e_N2 | B14: - | C14: If merchant supply | D14: Only direct CO2 | E14: ='Project Data'!B21*B8 -> 437316250 | F14: kgN2/yr | G14: Use EF override | I14: =H14 -> 0 | J14: gCO₂e/kg | L14: =IF(B$8>0,E14*I14/(1000*B$8),0) -> 0
A15: e_electricity | B15: Reg. 2023/1185 Annex A §5-6 | C15: Electricity consumption for ASU, etc. excluding electrolysis/hydrogen production | D15: ='Project Data'!A31 -> Grid Electricity Consumption | E15: ='Project Data'!B31 -> 0 | F15: kWh/yr | G15: Use EF override | I15: =IF(H15<>"",H15,IF(ISNUMBER(G15),G15,0)) -> 0 | J15: gCO₂e/kWh | L15: =IF(B$8>0,E15*I15/$B$8,0) -> 0
A16: e_electricity | D16: ='Project Data'!A32 -> Renewable Electricity Consumption | E16: ='Project Data'!B32 -> 600000 | F16: kWh/yr | G16: =0 -> 0 | I16: =IF(H16<>"",H16,IF(ISNUMBER(G16),G16,0)) -> 0 | J16: gCO₂e/kWh | L16: =IF(B$8>0,E16*I16/$B$8,0) -> 0
A17: e_electricity | D17: ='Project Data'!A33 -> Other Electricity Consumption | E17: ='Project Data'!B33 -> 0 | F17: kWh/yr | G17: Use EF override | I17: =IF(H17<>"",H17,IF(ISNUMBER(G17),G17,0)) -> 0 | J17: gCO₂e/kWh | L17: =IF(B$8>0,E17*I17/$B$8,0) -> 0
A18: e_steam (IndirEm) | B18: §Q | C18: Steam consumption | D18: ='Project Data'!B42 -> Please select | E18: ='Project Data'!B41 -> 0 | F18: MJ/yr | G18: =_xlfn.XLOOKUP(D18,'Emission Factors'!$A$62:$A$65,'Emission Factors'!$B$62:$B$65,"Not found - use EF override",0) -> Not found - use EF override | I18: =IF(H18<>"",H18,IF(ISNUMBER(G18),G18,0)) -> 0 | J18: gCO₂e/MJ | L18: =IF(B$8>0,E18*I18/B$8,0) -> 0
A19: e_fuel (direct CO2 from combustion) | B19: Reg. 2023/956 Annex IV §2 + Reg. 2025/2547 §B.3.1 | C19: Process fuels as provided on Project Data sheet | D19: ='Project Data'!B45 -> Diesel | E19: ='Project Data'!B46 -> 25000 | F19: MJ/yr | G19: =_xlfn.XLOOKUP(D19,'Emission Factors'!$A$15:$A$22,'Emission Factors'!$B$15:$B$22,"Not found - use EF override",0) -> 74.1 | I19: =IF(H19<>"",H19,IF(ISNUMBER(G19),G19,0)) -> 74.1 | J19: gCO₂/MJ | L19: =IF(B$8>0,E19*I19/(1000*B$8),0) -> 3.495283e-06
A20: e_fuel (direct CO2 from combustion) | D20: ='Project Data'!B47 -> Please select | E20: ='Project Data'!B48 -> 0 | F20: MJ/yr | G20: =_xlfn.XLOOKUP(D20,'Emission Factors'!$A$15:$A$22,'Emission Factors'!$B$15:$B$22,"Not found - use EF override",0) -> Not found - use EF override | I20: =IF(H20<>"",H20,IF(ISNUMBER(G20),G20,0)) -> 0 | J20: gCO₂/MJ | L20: =IF(B$8>0,E20*I20/(1000*B$8),0) -> 0
A21: e_fuel (direct CO2 from combustion) | D21: ='Project Data'!B49 -> Please select | E21: ='Project Data'!B50 -> 0 | F21: MJ/yr | G21: =_xlfn.XLOOKUP(D21,'Emission Factors'!$A$15:$A$22,'Emission Factors'!$B$15:$B$22,"Not found - use EF override",0) -> Not found - use EF override | I21: =IF(H21<>"",H21,IF(ISNUMBER(G21),G21,0)) -> 0 | J21: gCO₂/MJ | L21: =IF(B$8>0,E21*I21/(1000*B$8),0) -> 0
A22: e_fugitive (direct atmospheric) | B22: Reg. 2023/956 Annex IV §2 | C22: Processing emissions (only CO2) | D22: ='Project Data'!B63 -> Please select | E22: ='Project Data'!B64 -> 0 | F22: kg/yr | G22: =_xlfn.XLOOKUP(D22,'Emission Factors'!$A$71:$A$73,'Emission Factors'!$B$71:$B$73,"Not found - use EF override",0) -> Not found - use EF override | I22: =IF(H22<>"",H22,IF(ISNUMBER(G22),G22,0)) -> 0 | J22: kgCO2e/kg | L22: =IF(D22='Emission Factors'!$A$71,IF(B$8>0,E22*I22/$B$8,0),0) -> 0
A23: e_fugitive (direct atmospheric) | D23: ='Project Data'!B65 -> Please select | E23: ='Project Data'!B66 -> 0 | F23: kg/yr | G23: =_xlfn.XLOOKUP(D23,'Emission Factors'!$A$71:$A$73,'Emission Factors'!$B$71:$B$73,"Not found - use EF override",0) -> Not found - use EF override | I23: =IF(H23<>"",H23,IF(ISNUMBER(G23),G23,0)) -> 0 | J23: kgCO2e/kg | L23: =IF(D23='Emission Factors'!$A$71,IF(B$8>0,E23*I23/$B$8,0),0) -> 0
A24: e_fugitive (direct atmospheric) | D24: ='Project Data'!B67 -> Please select | E24: ='Project Data'!B68 -> 0 | F24: kg/yr | G24: =_xlfn.XLOOKUP(D24,'Emission Factors'!$A$71:$A$73,'Emission Factors'!$B$71:$B$73,"Not found - use EF override",0) -> Not found - use EF override | I24: =IF(H24<>"",H24,IF(ISNUMBER(G24),G24,0)) -> 0 | J24: kgCO2e/kg | L24: =IF(D24='Emission Factors'!$A$71,IF(B$8>0,E24*I24/$B$8,0),0) -> 0
A25: e_fugitive (direct atmospheric) | D25: ='Project Data'!B69 -> Please select | E25: ='Project Data'!B70 -> 0 | F25: kg/yr | G25: =_xlfn.XLOOKUP(D25,'Emission Factors'!$A$71:$A$73,'Emission Factors'!$B$71:$B$73,"Not found - use EF override",0) -> Not found - use EF override | I25: =IF(H25<>"",H25,IF(ISNUMBER(G25),G25,0)) -> 0 | J25: kgCO2e/kg | L25: =IF(D25='Emission Factors'!$A$71,IF(B$8>0,E25*I25/$B$8,0),0) -> 0
A26: Allocation factor (manual by user) | C26: Default 100%, user to adjust as needed | K26: % | L26: 1
A27: E — Total GHG intensity | B27: Reg. 2023/956 Annex IV §2 | L27: =L26*SUM(L13:L25) -> 3.495283e-06
A29: Note on EU CBAM
A30: Ammonia is in Annex I and not in Annex II of Reg. (EU) 2023/956.
A31: Multi-output attribution is not considered under this tool as assumed not relevant. Can be changed by user.
A32: Biomass-derived hydrogen is out of scope of this tool; the workbook models the electrolysis pathway only.

Sheet IMO
A1: IMO — GHG Fuel Intensity (Ammonia bunker fuel)
A2: Source: | B2: MEPC.391(81) LCA Guidelines (Apr 2024) + draft revised MARPOL Annex VI (MEPC-ES.2-2) + GESAMP-LCA WG FAQs (2025)
A3: Boundary: | B3: Well-to-Wake: WtT (feedstock extraction + fuel production + transport & bunkering) + TtW (combustion, N₂O dominates for NH₃). Machinery/equipment manufacturing excluded.
A4: Output unit: | B4: GHG Fuel Intensity (GFI) in gCO₂eq/MJ NH₃
A5: Threshold: | B5: No fuel specific threshold but GFI Trajectory for ship: Direct and Base Targets for years between 2028 and 2035
A6: GWP Basis | B6: IPCC AR5 GWP100
A8: Annual NH3 Output | B8: ='Project Data'!B12*1000 -> 530000000 | C8: kg NH₃/yr
A9: Annual NH3 Energy Output | B9: =B8*'Emission Factors'!B87 -> 9858000000 | C9: MJ/yr
A11: GHG Intensity Calculation
A12: Component | B12: Formula / Reference | C12: Description | D12: Type | E12: Amount | F12: Input Unit | G12: EF from selection | H12: EF override | I12: Active EF | J12: EF Unit | K12: Data source / Note | L12: Result (gCO₂e/MJ)
D13: (Change on Project Data sheet)
A14: WtT — e_H2 | B14: - | C14: If merchant supply | D14: - | E14: ='Project Data'!B17*B8 -> 99640000 | F14: kgH2/yr | G14: ='Project Data'!B18 -> 0 | I14: =IF(H14<>"",H14,IF(ISNUMBER(G14),G14,0)) -> 0 | J14: gCO₂e/kgH2 | L14: =IF(B$9>0,E14*I14/$B$9,0) -> 0
A15: WtT — e_N2 | B15: - | C15: If merchant supply | D15: - | E15: ='Project Data'!B21*B8 -> 437316250 | F15: kgN₂/yr | G15: ='Project Data'!B22 -> 0 | I15: =IF(H15<>"",H15,IF(ISNUMBER(G15),G15,0)) -> 0 | J15: gCO₂e/kgN₂ | L15: =IF(B$9>0,E15*I15/$B$9,0) -> 0
A16: WtT — e_electricity | B16: MEPC.391 Section 4 | C16: Electricity consumption | D16: ='Project Data'!A25 -> Grid Electricity Consumption | E16: =('Project Data'!B25+'Project Data'!B31)*1000 -> 350000000 | F16: kWh/yr | G16: Use EF override | H16: 608 | I16: =IF(H16<>"",H16,IF(ISNUMBER(G16),G16,0)) -> 608 | J16: gCO₂e/kWh | L16: =IF(B$9>0,E16*I16/$B$9,0) -> 21.586529
A17: WtT — e_electricity | D17: ='Project Data'!A26 -> Renewable Electricity Consumption | E17: =('Project Data'!B26+'Project Data'!B32)*1000 -> 12600000000 | F17: kWh/yr | G17: =0 -> 0 | I17: =IF(H17<>"",H17,IF(ISNUMBER(G17),G17,0)) -> 0 | J17: gCO₂e/kWh | L17: =IF(B$9>0,E17*I17/$B$9,0) -> 0
A18: WtT — e_electricity | D18: ='Project Data'!A27 -> Other Electricity Consumption | E18: =('Project Data'!B27+'Project Data'!B33)*1000 -> 0 | F18: kWh/yr | G18: Use EF override | I18: =IF(H18<>"",H18,IF(ISNUMBER(G18),G18,0)) -> 0 | J18: gCO₂e/kWh | L18: =IF(B$9>0,E18*I18/$B$9,0) -> 0
A19: WtT — e_water | C19: Water supply emissions. Ecoinvent data is used as proxy. Override by own EF if available. | D19: ='Project Data'!B38 -> Deionized water | E19: ='Project Data'!B37 -> 1100000 | F19: m³/yr | G19: =_xlfn.XLOOKUP(D19,'Emission Factors'!A28:A30,'Emission Factors'!B28:B30,"Not found - use EF override",0) -> 0.5 | I19: =IF(H19<>"",H19,IF(ISNUMBER(G19),G19,0)) -> 0.5 | J19: kgCO₂e/m³ | L19: =IF(B$9>0,E19*I19*1000/$B$9,0) -> 0.05579225
A20: WtT — e_fuel | C20: Process fuels as provided on Project Data sheet | D20: ='Project Data'!B45 -> Diesel | E20: ='Project Data'!B46 -> 25000 | F20: MJ/yr | G20: =_xlfn.XLOOKUP(D20,'Emission Factors'!$A$15:$A$22,'Emission Factors'!$E$15:$E$22,"Not found - use EF override",0) -> 95.1 | I20: =IF(H20<>"",H20,IF(ISNUMBER(G20),G20,0)) -> 95.1 | J20: gCO2e/MJ | L20: =IF(B$9>0,E20*I20/$B$9,0) -> 0.00024117468
A21: WtT — e_fuel | D21: ='Project Data'!B47 -> Please select | E21: ='Project Data'!B48 -> 0 | F21: MJ/yr | G21: =_xlfn.XLOOKUP(D21,'Emission Factors'!$A$15:$A$22,'Emission Factors'!$E$15:$E$22,"Not found - use EF override",0) -> Not found - use EF override | I21: =IF(H21<>"",H21,IF(ISNUMBER(G21),G21,0)) -> 0 | J21: gCO2e/MJ | L21: =IF(B$9>0,E21*I21/$B$9,0) -> 0
A22: WtT — e_fuel | D22: ='Project Data'!B49 -> Please select | E22: ='Project Data'!B50 -> 0 | F22: MJ/yr | G22: =_xlfn.XLOOKUP(D22,'Emission Factors'!$A$15:$A$22,'Emission Factors'!$E$15:$E$22,"Not found - use EF override",0) -> Not found - use EF override | I22: =IF(H22<>"",H22,IF(ISNUMBER(G22),G22,0)) -> 0 | J22: gCO2e/MJ | L22: =IF(B$9>0,E22*I22/$B$9,0) -> 0
A23: WtT — e_steam | B23: - | C23: Steam consumption | D23: ='Project Data'!B42 -> Please select | E23: ='Project Data'!B41 -> 0 | F23: MJ/yr | G23: =_xlfn.XLOOKUP(D23,'Emission Factors'!A62:A65,'Emission Factors'!B62:B65,"Not found - use EF override",0) -> Not found - use EF override | I23: =IF(H23<>"",H23,IF(ISNUMBER(G23),G23,0)) -> 0 | J23: kgCO₂e/MJ | L23: =IF(B$9>0,E23*I23*1000/$B$9,0) -> 0
A24: WtT — e_materials | B24: MEPC.391 Section 4 | C24: Input materials as provided on Project Data sheet | D24: ='Project Data'!B53 -> Potassium hydroxide (KOH) | E24: ='Project Data'!B54 -> 200000 | F24: kg/yr | G24: =_xlfn.XLOOKUP(D24,'Emission Factors'!$A$40:$A$56,'Emission Factors'!$B$40:$B$56,"Not found - use EF override",0) -> 419.1 | I24: =IF(H24<>"",H24,IF(ISNUMBER(G24),G24,0)) -> 419.1 | J24: gCO₂e/kg | L24: =IF(B$9>0,E24*I24/$B$9,0) -> 0.0085027389
A25: WtT — e_materials | D25: ='Project Data'!B55 -> Please select | E25: ='Project Data'!B56 -> 0 | F25: kg/yr | G25: =_xlfn.XLOOKUP(D25,'Emission Factors'!$A$40:$A$56,'Emission Factors'!$B$40:$B$56,"Not found - use EF override",0) -> Not found - use EF override | I25: =IF(H25<>"",H25,IF(ISNUMBER(G25),G25,0)) -> 0 | J25: gCO₂e/kg | L25: =IF(B$9>0,E25*I25/$B$9,0) -> 0
A26: WtT — e_materials | D26: ='Project Data'!B57 -> Please select | E26: ='Project Data'!B58 -> 0 | F26: kg/yr | G26: =_xlfn.XLOOKUP(D26,'Emission Factors'!$A$40:$A$56,'Emission Factors'!$B$40:$B$56,"Not found - use EF override",0) -> Not found - use EF override | I26: =IF(H26<>"",H26,IF(ISNUMBER(G26),G26,0)) -> 0 | J26: gCO₂e/kg | L26: =IF(B$9>0,E26*I26/$B$9,0) -> 0
A27: WtT — e_materials | D27: ='Project Data'!B59 -> Please select | E27: ='Project Data'!B60 -> 0 | F27: kg/yr | G27: =_xlfn.XLOOKUP(D27,'Emission Factors'!$A$40:$A$56,'Emission Factors'!$B$40:$B$56,"Not found - use EF override",0) -> Not found - use EF override | I27: =IF(H27<>"",H27,IF(ISNUMBER(G27),G27,0)) -> 0 | J27: gCO₂e/kg | L27: =IF(B$9>0,E27*I27/$B$9,0) -> 0
A28: WtT — eₚ fugitive | C28: Processing emissions (direct atmospheric CH4, N2O, etc.) | D28: ='Project Data'!B63 -> Please select | E28: ='Project Data'!B64 -> 0 | F28: kg/yr | G28: =_xlfn.XLOOKUP(D28,'Emission Factors'!$A$71:$A$73,'Emission Factors'!$B$71:$B$73,"Not found - use EF override",0) -> Not found - use EF override | I28: =IF(H28<>"",H28,IF(ISNUMBER(G28),G28,0)) -> 0 | J28: kgCO2e/kg | L28: =IF(B$9>0,E28*I28*1000/$B$9,0) -> 0
A29: WtT — eₚ fugitive | D29: ='Project Data'!B65 -> Please select | E29: ='Project Data'!B66 -> 0 | F29: kg/yr | G29: =_xlfn.XLOOKUP(D29,'Emission Factors'!$A$71:$A$73,'Emission Factors'!$B$71:$B$73,"Not found - use EF override",0) -> Not found - use EF override | I29: =IF(H29<>"",H29,IF(ISNUMBER(G29),G29,0)) -> 0 | J29: kgCO2e/kg | L29: =IF(B$9>0,E29*I29*1000/$B$9,0) -> 0
A30: WtT — eₚ fugitive | D30: ='Project Data'!B67 -> Please select | E30: ='Project Data'!B68 -> 0 | F30: kg/yr | G30: =_xlfn.XLOOKUP(D30,'Emission Factors'!$A$71:$A$73,'Emission Factors'!$B$71:$B$73,"Not found - use EF override",0) -> Not found - use EF override | I30: =IF(H30<>"",H30,IF(ISNUMBER(G30),G30,0)) -> 0 | J30: kgCO2e/kg | L30: =IF(B$9>0,E30*I30*1000/$B$9,0) -> 0
A31: WtT — eₚ fugitive | D31: ='Project Data'!B69 -> Please select | E31: ='Project Data'!B70 -> 0 | F31: kg/yr | G31: =_xlfn.XLOOKUP(D31,'Emission Factors'!$A$71:$A$73,'Emission Factors'!$B$71:$B$73,"Not found - use EF override",0) -> Not found - use EF override | I31: =IF(H31<>"",H31,IF(ISNUMBER(G31),G31,0)) -> 0 | J31: kgCO2e/kg | L31: =IF(B$9>0,E31*I31*1000/$B$9,0) -> 0
A32: WtT — efecu | C32: Additional emissions associated with the feedstock extraction/cultivation/acquisition/recovery not yet covered above | F32: kgCO₂e/yr | G32: — | H32: — | I32: — | J32: — | L32: =IF(B$9>0,E32*1000/$B$9,0) -> 0
A33: WtT — etd | C33: Emissions from storage and distribution of finished NH3 | D33: — | F33: gCO₂e/MJ NH3 | G33: — | H33: — | I33: — | J33: — | L33: =IF(ISNUMBER(E33),E33,0) -> 0
A34: WtT — eccs | C34: CCS savings term | F34: kgCO₂e/yr | G34: — | H34: — | I34: — | J34: — | L34: =IF(B$9>0,E34*1000/$B$9,0) -> 0
A35: TtW — N₂O from combustion | B35: MEPC.391 Section 5 | C35: Emissions from Ammonia combustion | D35: ='Project Data'!B73 -> Other | E35: =B8*'Emission Factors'!$B$91*'Project Data'!$B$76*(44/28) -> 68494.171 | F35: kg N₂O/yr | G35: ='Emission Factors'!$B$73 -> 265 | I35: =IF(H35<>"",H35,IF(ISNUMBER(G35),G35,0)) -> 265 | J35: kgCO₂e/kg N₂O | L35: =IF(B$9>0,E35*I35*1000/$B$9,0) -> 1.8412412
A36: WtT — e total | K36: gCO₂e/MJ | L36: =SUM(L14:L33)-L34 -> 21.651065
A37: TtW — e total | K37: gCO₂e/MJ | L37: =L35 -> 1.8412412
A38: Allocation factor (manual by user) | C38: Default 100%, user to adjust as needed | K38: % | L38: 1
A39: e total | K39: gCO₂e/MJ | L39: =L38*(L36+L37) -> 23.492306
A40: e total (mirror unit) | K40: kgCO₂e/kgNH3 | L40: =L39*'Emission Factors'!$B$87/1000 -> 0.43695689
A41: EF — Fossil fuel comparator | B41: MEPC-ES.2-2 draft | C41: MGO baseline GFI = 93.3 gCO₂e/MJ. | D41: — | E41: — | F41: — | G41: — | H41: — | I41: — | J41: — | K41: gCO₂e/MJ | L41: =93.3 -> 93.3
A42: % Reduction vs. MGO baseline | L42: =IF(L41>0,(L41-L39)/L41,0) -> 0.74820679
...

Sheet Results
A1: Methodology Results
A2: Included in Results (from Project Data): | B2: ='Project Data'!B7 -> Yes | C2: ='Project Data'!B8 -> Yes | D2: ='Project Data'!B9 -> Yes
A3: Metric | B3: EU RFNBO | C3: EU CBAM | D3: IMO | E3: Notes
A4: Total GHG Intensity (kgCO₂e/kgNH3) | B4: =IF(B2="Yes",'EU RFNBO'!L41,"NA") -> 0.44122162 | C4: =IF(C2="Yes",'EU CBAM'!L27,"NA") -> 3.495283e-06 | D4: =IF(D2="Yes",IMO!L40,"NA") -> 0.43695689
A5: Total GHG Intensity (gCO₂e/MJ) | B5: =IF(B2="Yes",'EU RFNBO'!L40,"NA") -> 23.721593 | C5: =IF(C2="Yes",C4*1000/'Emission Factors'!$B$87,"NA") -> 0.00018791844 | D5: =IF(D2="Yes",IMO!L39,"NA") -> 23.492306
A6: Threshold | B6: ≥ 70 % savings → E ≤ 28.2 gCO₂e/MJ | C6: None (no threshold) | D6: No fuel threshold: GFI Trajectory: Direct and Base Targets for years between 2028 and 2035
A7: Pass / Fail | B7: ='EU RFNBO'!L44 -> PASS | C7: Informational | D7: Informational
A9: Methodology Details
A10: Methodology / Regulation | B10: Reg. (EU) 2023/1185 + Reg. (EU) 2023/1184 + Dir. 2018/2001 (RED II) / 2023/2413 (RED III) | C10: Reg. (EU) 2023/956 + Imp. Reg. (EU) 2025/2547 | D10: MEPC.391(81) + MEPC-ES.2-2 draft
A11: Boundary | B11: Well-to-wheel; machinery/equipment excluded (Annex A.1) | C11: Production gate (Annex I — CO2 only) | D11: Well-to-Wake; machinery excluded
A12: GWP Basis | B12: IPCC AR4 100-year (per Dir. 2018/2001 Annex V part C point 4) | C12: only CO₂ applies | D12: IPCC AR5 GWP100 locked; optional GWP20 comparative

Sheet Emission Factors
A1: Emission Factors and External References
A3: §10.1 Grid Emission Factors
A4: Region / Grid | B4: Factor | C4: Unit | D4: Source | E4: Version / Year | F4: Notes / Weblink
A5: EU RFNBO — Country-level Grid EFs (Reg. 2023/1185 Annex Part C) | C5: gCO₂e/kWh | D5: European Commission (Delegated Reg. 2023/1185) | E5: 10 Feb 2023 | F5: For EU projects: pick country grid EF from Annex Table A. For non-EU grids: use Annex Part C methodology. http://data.europa.eu/eli/reg_del/2023/1185/oj
A6: EU CBAM — Not applicable for hydrogen | C6: — | D6: European Parliament & Council (Reg. 2023/956) | E6: 10 May 2023 | F6: Annex II of Reg. 2023/956: hydrogen (CN 2804 10 00) counts direct emissions only; grid electricity out of scope. http://data.europa.eu/eli/reg/2023/956/oj
A7: India — National Grid (CEA) | B7: 710 | C7: gCO₂e/kWh | D7: Central Electricity Authority | E7: v20.0 (Dec 2024); GHCI cites 0.71 | F7: https://cea.nic.in/cdm-co2-baseline-database/?lang=en
A8: India — Regional Grid (example) | C8: gCO₂e/kWh | D8: CEA | E8: State-specific — see CEA CO₂ Baseline DB | F8: https://cea.nic.in/cdm-co2-baseline-database/?lang=en
A9: South Korea — National Grid | B9: 459.4 | C9: gCO₂e/kWh | D9: Korea Energy Agency | E9: 2023 (KEA/national inventory) | F9: https://english.motie.go.kr/eng/article/EATCLdfa319ada/1619/view
A10: UNFCCC IFI Harmonized Default Grid Factors (all countries) | C10: gCO₂e/kWh | D10: UNFCCC IFI Technical Working Group on GHG Accounting | E10: v3.2 (Apr 2022; data year 2021) | F10: https://unfccc.int/sites/default/files/resource/Harmonized_Grid_Emission_factor_data_set.xlsx
A12: §10.2 Fuel Emission Factors (gCO₂eq/MJ, LHV basis)
A13: Fuel | B13: CO₂ emissions | C13: Non-CO₂ combustion (CO₂e) | D13: Upstream (well-to-tank) | E13: Total emissions incl. upstream emissions | F13: Source / Notes
A14: Please select | F14: Used for populating dropdown
A15: Natural Gas | B15: 56.1 | C15: 0.054 | D15: 9.7 | E15: 66 | F15: CO₂ + Non-CO₂ from IPCC 2006 Table 1 (NG, AR5 GWPs); Upstream + WTT from RFNBO Annex Part B
A16: Diesel | B16: 74.1 | C16: 0.243 | D16: 21.9 | E16: 95.1 | F16: CO₂ + Non-CO₂ from IPCC 2006 Table 1 (Gas oil and diesel oil, AR5 GWPs); Upstream + WTT from Part B
A17: Gasoline | B17: 69.3 | C17: 0.243 | D17: 19.9 | E17: 93.3 | F17: CO₂ + Non-CO₂ from IPCC 2006 Table 1 (Motor gasoline, AR5 GWPs); Upstream + WTT from Part B
A18: Heavy fuel oil | B18: 77.4 | C18: 0.243 | D18: 13.6 | E18: 94.2 | F18: CO₂ + Non-CO₂ from IPCC 2006 Table 1 (Fuel oil, AR5 GWPs); Upstream + WTT from Part B
A19: Methanol | B19: 68.9 | C19: 0 | D19: 28.2 | E19: 97.1 | F19: CO₂ (~= Part B combustion for methanol; IPCC does not list methanol); Non-CO₂ negligible; Upstream + WTT from Part B
A20: Hard coal | B20: 94.6 | C20: 0.426 | D20: 16.2 | E20: 112.3 | F20: CO₂ + Non-CO₂ from IPCC 2006 Table 1 (Other bituminous coal, AR5 GWPs); Upstream + WTT from Part B
A21: Lignite | B21: 101 | C21: 0.426 | D21: 1.7 | E21: 116.7 | F21: CO₂ + Non-CO₂ from IPCC 2006 Table 1 (Lignite, AR5 GWPs); Upstream + WTT from Part B. Note: WTT (116.7 Part B) exceeds sum of columns because Part B assumes higher combustion factor
A22: LPG (derived) | B22: 63.1 | C22: 0.054 | D22: 11.6 | E22: 74.75 | F22: CO₂ + Non-CO₂ from IPCC 2006 Table 1 (Liquefied petroleum gases, AR5 GWPs); Upstream from IPCC 2006 Table 3 (Petroleum products); WTT = sum (LPG not in Part B)
A23: Other | F23: Used for populating dropdown
A25: §10.3 Material Emission Factors — Ecoinvent Standard Values
A26: Material | B26: Factor | C26: Unit | D26: Source | E26: Version / Year | F26: Notes / Weblink
A27: Please select | F27: Used for populating dropdown
A28: Water (municipal supply) | B28: 0.344 | C28: kgCO₂e/m³ | D28: Ecoinvent / LCI | E28: 3.9 | F28: https://ecoinvent.org/database/
A29: Water (desalinated) | B29: 1.8 | C29: kgCO₂e/m³ | D29: Literature | E29: — | F29: Indicative — site-specific LCA preferred (Ecoinvent: https://ecoinvent.org/database/)
A30: Deionized water | B30: 0.5 | C30: kgCO₂e/m³ | D30: Ecoinvent | E30: 3.9 | F30: https://ecoinvent.org/database/
A31: Other | F31: Used for populating dropdown
A32: NaOH (caustic soda) | B32: 1.17 | C32: kgCO₂e/m³ | D32: Ecoinvent | E32: 3.9 | F32: https://ecoinvent.org/database/
A33: KOH (potassium hydroxide) | B33: 1.94 | C33: kgCO₂e/m³ | D33: Ecoinvent | E33: 3.9 | F33: https://ecoinvent.org/database/
A34: Salt (NaCl) | B34: 0.2 | C34: kgCO₂e/m³ | D34: Ecoinvent | E34: 3.9 | F34: https://ecoinvent.org/database/
A35: Catalyst (generic placeholder) | B35: 5 | C35: kgCO₂e/m³ | D35: Placeholder | E35: — | F35: Placeholder — replace with specific catalyst LCI from Ecoinvent (https://ecoinvent.org/database/)
A37: §10.3b Material Emission Factors — RFNBO Annex Part B (Standard Values)
A38: Material | B38: Factor | C38: Unit | D38: Source | E38: Version / Year | F38: Notes / Weblink
A39: Please select | F39: Used for populating dropdown
A40: Ammonia | B40: 2351.3 | C40: gCO₂e/kg | D40: RFNBO Annex Part B (Reg. 2023/1185) | E40: 10 Feb 2023 | F40: http://data.europa.eu/eli/reg_del/2023/1185/oj
A41: Calcium chloride (CaCl₂) | B41: 38.8 | C41: gCO₂e/kg | D41: RFNBO Annex Part B (Reg. 2023/1185) | E41: 10 Feb 2023 | F41: http://data.europa.eu/eli/reg_del/2023/1185/oj
A42: Cyclohexane | B42: 723 | C42: gCO₂e/kg | D42: RFNBO Annex Part B (Reg. 2023/1185) | E42: 10 Feb 2023 | F42: http://data.europa.eu/eli/reg_del/2023/1185/oj
A43: Hydrochloric acid (HCl) | B43: 1061.1 | C43: gCO₂e/kg | D43: RFNBO Annex Part B (Reg. 2023/1185) | E43: 10 Feb 2023 | F43: http://data.europa.eu/eli/reg_del/2023/1185/oj
A44: Lubricants | B44: 947 | C44: gCO₂e/kg | D44: RFNBO Annex Part B (Reg. 2023/1185) | E44: 10 Feb 2023 | F44: http://data.europa.eu/eli/reg_del/2023/1185/oj
...
